BEGIN:VCALENDAR
VERSION:2.0
PRODID:-//VBE Academy - ECPv6.15.17.1//NONSGML v1.0//EN
CALSCALE:GREGORIAN
METHOD:PUBLISH
X-WR-CALNAME:VBE Academy
X-ORIGINAL-URL:https://vbe.academy
X-WR-CALDESC:Events for VBE Academy
REFRESH-INTERVAL;VALUE=DURATION:PT1H
X-Robots-Tag:noindex
X-PUBLISHED-TTL:PT1H
BEGIN:VTIMEZONE
TZID:Europe/Vienna
BEGIN:DAYLIGHT
TZOFFSETFROM:+0100
TZOFFSETTO:+0200
TZNAME:CEST
DTSTART:20250330T010000
END:DAYLIGHT
BEGIN:STANDARD
TZOFFSETFROM:+0200
TZOFFSETTO:+0100
TZNAME:CET
DTSTART:20251026T010000
END:STANDARD
BEGIN:DAYLIGHT
TZOFFSETFROM:+0100
TZOFFSETTO:+0200
TZNAME:CEST
DTSTART:20260329T010000
END:DAYLIGHT
BEGIN:STANDARD
TZOFFSETFROM:+0200
TZOFFSETTO:+0100
TZNAME:CET
DTSTART:20261025T010000
END:STANDARD
BEGIN:DAYLIGHT
TZOFFSETFROM:+0100
TZOFFSETTO:+0200
TZNAME:CEST
DTSTART:20270328T010000
END:DAYLIGHT
BEGIN:STANDARD
TZOFFSETFROM:+0200
TZOFFSETTO:+0100
TZNAME:CET
DTSTART:20271031T010000
END:STANDARD
BEGIN:DAYLIGHT
TZOFFSETFROM:+0100
TZOFFSETTO:+0200
TZNAME:CEST
DTSTART:20280326T010000
END:DAYLIGHT
BEGIN:STANDARD
TZOFFSETFROM:+0200
TZOFFSETTO:+0100
TZNAME:CET
DTSTART:20281029T010000
END:STANDARD
END:VTIMEZONE
BEGIN:VTIMEZONE
TZID:America/New_York
BEGIN:DAYLIGHT
TZOFFSETFROM:-0500
TZOFFSETTO:-0400
TZNAME:EDT
DTSTART:20250309T070000
END:DAYLIGHT
BEGIN:STANDARD
TZOFFSETFROM:-0400
TZOFFSETTO:-0500
TZNAME:EST
DTSTART:20251102T060000
END:STANDARD
BEGIN:DAYLIGHT
TZOFFSETFROM:-0500
TZOFFSETTO:-0400
TZNAME:EDT
DTSTART:20260308T070000
END:DAYLIGHT
BEGIN:STANDARD
TZOFFSETFROM:-0400
TZOFFSETTO:-0500
TZNAME:EST
DTSTART:20261101T060000
END:STANDARD
BEGIN:DAYLIGHT
TZOFFSETFROM:-0500
TZOFFSETTO:-0400
TZNAME:EDT
DTSTART:20270314T070000
END:DAYLIGHT
BEGIN:STANDARD
TZOFFSETFROM:-0400
TZOFFSETTO:-0500
TZNAME:EST
DTSTART:20271107T060000
END:STANDARD
END:VTIMEZONE
BEGIN:VTIMEZONE
TZID:Asia/Singapore
BEGIN:STANDARD
TZOFFSETFROM:+0800
TZOFFSETTO:+0800
TZNAME:+08
DTSTART:20250101T000000
END:STANDARD
END:VTIMEZONE
BEGIN:VTIMEZONE
TZID:Europe/London
BEGIN:DAYLIGHT
TZOFFSETFROM:+0000
TZOFFSETTO:+0100
TZNAME:BST
DTSTART:20250330T010000
END:DAYLIGHT
BEGIN:STANDARD
TZOFFSETFROM:+0100
TZOFFSETTO:+0000
TZNAME:GMT
DTSTART:20251026T010000
END:STANDARD
BEGIN:DAYLIGHT
TZOFFSETFROM:+0000
TZOFFSETTO:+0100
TZNAME:BST
DTSTART:20260329T010000
END:DAYLIGHT
BEGIN:STANDARD
TZOFFSETFROM:+0100
TZOFFSETTO:+0000
TZNAME:GMT
DTSTART:20261025T010000
END:STANDARD
BEGIN:DAYLIGHT
TZOFFSETFROM:+0000
TZOFFSETTO:+0100
TZNAME:BST
DTSTART:20270328T010000
END:DAYLIGHT
BEGIN:STANDARD
TZOFFSETFROM:+0100
TZOFFSETTO:+0000
TZNAME:GMT
DTSTART:20271031T010000
END:STANDARD
END:VTIMEZONE
BEGIN:VEVENT
DTSTART;TZID=Europe/Vienna:20260513T090000
DTEND;TZID=Europe/Vienna:20260513T170000
DTSTAMP:20260421T095823
CREATED:20250915T173310Z
LAST-MODIFIED:20260121T122957Z
UID:3344-1778662800-1778691600@vbe.academy
SUMMARY:VBE Introduction Training (1 day\, German language)
DESCRIPTION:Join us for a one-day introduction to Artificial Intelligence\, AI Ethics\, and Value-based Engineering (VBE). This training builds essential AI literacy and shows how VBE provides a structured\, standards-aligned method to align technology with human values – supporting compliance with the EU AI Act and other upcoming regulations. \nYour course package includes a complimentary copy of the Value-based Engineering book. \n👉 Visit the training overview for more details. \nBook your seat today or contact us for more information. We are happy to provide individual quotes and alternative payment options.
URL:https://vbe.academy/event/vbe-introduction-training-2026-05-13/
LOCATION:Online
CATEGORIES:Introduction
ATTACH;FMTTYPE=image/webp:https://vbe.academy/wp-content/uploads/2025/04/feature-online.webp
ORGANIZER;CN="VBE Academy":MAILTO:info@vbe.academy
END:VEVENT
BEGIN:VEVENT
DTSTART;VALUE=DATE:20260519
DTEND;VALUE=DATE:20260522
DTSTAMP:20260421T095823
CREATED:20250915T165149Z
LAST-MODIFIED:20260121T123210Z
UID:3311-1779148800-1779407999@vbe.academy
SUMMARY:VBE Ambassador Training (3.5 days\, CET\, English language)
DESCRIPTION:Be the reason technology moves in the right direction. Become a certified ambassador for Value-based Engineering (VBE) and help shape technology with ethical purpose. \nThis training introduces the fundamentals of the ISO/IEC/IEEE 24748-7000 standard and shows how to systematically integrate values into technology development. Grounded in international standards and built for real-world application\, VBE equips you to bridge the gap between ethics\, engineering\, and impact. \n👉 Learn more about the training here \nThe fee for the Austrian Standards VBE Ambassador Certification (Initial Certification\, one attempt) is included in the course price. \nBook your seat today or contact us for more information. We are happy to support you with individual quotes and alternative payment options.
URL:https://vbe.academy/event/vbe-ambassador-training-2026-05-19/
LOCATION:Online
CATEGORIES:VBE Ambassador
ATTACH;FMTTYPE=image/webp:https://vbe.academy/wp-content/uploads/2025/04/feature-online.webp
ORGANIZER;CN="VBE Academy":MAILTO:info@vbe.academy
END:VEVENT
BEGIN:VEVENT
DTSTART;VALUE=DATE:20260601
DTEND;VALUE=DATE:20260616
DTSTAMP:20260421T095823
CREATED:20250915T210657Z
LAST-MODIFIED:20250916T161424Z
UID:3380-1780272000-1781567999@vbe.academy
SUMMARY:Digital Ethics Module 2: Value Principles and Fundamental Rights (Jun. 2026)
DESCRIPTION:Advance your expertise with a deep dive into five core values shaping AI and IT design: dignity\, freedom\, privacy\, transparency\, and fairness. This three-month blended learning course helps you address bias\, data protection\, and ethical challenges in complex systems. \n👉 Visit the full course overview \nBook your seat today or contact us for more information. We are happy to support you with individual quotes and alternative payment options. (Prices are net prices\, VAT may apply.)
URL:https://vbe.academy/event/value-principles-and-fundamental-rights-2026-06-01/
LOCATION:Online
CATEGORIES:Digital Ethics 2
ATTACH;FMTTYPE=image/webp:https://vbe.academy/wp-content/uploads/2025/04/feature-online.webp
ORGANIZER;CN="VBE Academy":MAILTO:info@vbe.academy
END:VEVENT
BEGIN:VEVENT
DTSTART;TZID=America/New_York:20260616T083000
DTEND;TZID=America/New_York:20260616T173000
DTSTAMP:20260421T095823
CREATED:20250915T173313Z
LAST-MODIFIED:20260121T122953Z
UID:3350-1781598600-1781631000@vbe.academy
SUMMARY:VBE Introduction Training (1 day\, US Timezone)
DESCRIPTION:Join us for a one-day introduction to Artificial Intelligence\, AI Ethics\, and Value-based Engineering (VBE). This training builds essential AI literacy and shows how VBE provides a structured\, standards-aligned method to align technology with human values – supporting compliance with the EU AI Act and other upcoming regulations. \nYour course package includes a complimentary copy of the Value-based Engineering book. \n👉 Visit the training overview for more details. \nBook your seat today or contact us for more information. We are happy to provide individual quotes and alternative payment options.
URL:https://vbe.academy/event/vbe-introduction-training-2026-06-16/
LOCATION:Online
CATEGORIES:Introduction
ATTACH;FMTTYPE=image/webp:https://vbe.academy/wp-content/uploads/2025/04/feature-online.webp
ORGANIZER;CN="VBE Academy":MAILTO:info@vbe.academy
END:VEVENT
BEGIN:VEVENT
DTSTART;VALUE=DATE:20260623
DTEND;VALUE=DATE:20260626
DTSTAMP:20260421T095823
CREATED:20250915T165205Z
LAST-MODIFIED:20260121T123215Z
UID:3313-1782172800-1782431999@vbe.academy
SUMMARY:VBE Ambassador Training (3.5 days\, CET\, German language)
DESCRIPTION:Be the reason technology moves in the right direction. Become a certified ambassador for Value-based Engineering (VBE) and help shape technology with ethical purpose. \nThis training introduces the fundamentals of the ISO/IEC/IEEE 24748-7000 standard and shows how to systematically integrate values into technology development. Grounded in international standards and built for real-world application\, VBE equips you to bridge the gap between ethics\, engineering\, and impact. \n👉 Learn more about the training here \nThe fee for the Austrian Standards VBE Ambassador Certification (Initial Certification\, one attempt) is included in the course price. \nBook your seat today or contact us for more information. We are happy to support you with individual quotes and alternative payment options.
URL:https://vbe.academy/event/vbe-ambassador-training-2026-06-23/
LOCATION:Online
CATEGORIES:VBE Ambassador
ATTACH;FMTTYPE=image/webp:https://vbe.academy/wp-content/uploads/2025/04/feature-online.webp
ORGANIZER;CN="VBE Academy":MAILTO:info@vbe.academy
END:VEVENT
BEGIN:VEVENT
DTSTART;VALUE=DATE:20260901
DTEND;VALUE=DATE:20260916
DTSTAMP:20260421T095823
CREATED:20250915T210654Z
LAST-MODIFIED:20250916T161502Z
UID:3382-1788220800-1789516799@vbe.academy
SUMMARY:Digital Ethics Module 1: Fundamentals in Computer Ethics (Sep. 26)
DESCRIPTION:Learn the essentials of digital ethics and responsible system design. This three-month blended learning course combines online modules with guided sessions\, introducing ethical theories and showing how values shape AI and emerging technologies. \n👉 Visit the full course overview \nBook your seat today or contact us for more information. We are happy to support you with individual quotes and alternative payment options. (Prices are net prices\, VAT may apply.)
URL:https://vbe.academy/event/fundamentals-in-computer-ethics-2026-09-01/
LOCATION:Online
CATEGORIES:Digital Ethics 1
ATTACH;FMTTYPE=image/webp:https://vbe.academy/wp-content/uploads/2025/04/feature-online.webp
ORGANIZER;CN="VBE Academy":MAILTO:info@vbe.academy
END:VEVENT
BEGIN:VEVENT
DTSTART;TZID=Europe/Vienna:20260915T000000
DTEND;TZID=Europe/Vienna:20260917T235900
DTSTAMP:20260421T095823
CREATED:20250220T094411Z
LAST-MODIFIED:20250916T161514Z
UID:1847-1789430400-1789689540@vbe.academy
SUMMARY:VBE Ambassador Training (3.5 days\, Sept 2026) - in cooperation with Austrian Standards
DESCRIPTION:Become a certified ambassador for Value-based Engineering and help shape technology with ethical purpose. This training covers the basics of the ISO/IEC/IEEE 24748-7000 standard and shows how to systematically integrate values into technology development.
URL:https://vbe.academy/event/vbe-ambassador-training-2026-09-15/
LOCATION:Vienna\, Austria
CATEGORIES:VBE Ambassador
ATTACH;FMTTYPE=image/webp:https://vbe.academy/wp-content/uploads/2025/04/feature-online.webp
ORGANIZER;CN="VBE Academy":MAILTO:info@vbe.academy
END:VEVENT
BEGIN:VEVENT
DTSTART;TZID=Asia/Singapore:20260922T093000
DTEND;TZID=Asia/Singapore:20260922T173000
DTSTAMP:20260421T095823
CREATED:20250915T173315Z
LAST-MODIFIED:20260121T122951Z
UID:3356-1790069400-1790098200@vbe.academy
SUMMARY:VBE Introduction Training (1 day\, Asia-Pacific Timezone)
DESCRIPTION:Join us for a one-day introduction to Artificial Intelligence\, AI Ethics\, and Value-based Engineering (VBE). This training builds essential AI literacy and shows how VBE provides a structured\, standards-aligned method to align technology with human values – supporting compliance with the EU AI Act and other upcoming regulations. \nYour course package includes a complimentary copy of the Value-based Engineering book. \n👉 Visit the training overview for more details. \nBook your seat today or contact us for more information. We are happy to provide individual quotes and alternative payment options.
URL:https://vbe.academy/event/vbe-introduction-training-2026-09-22/
LOCATION:Online
CATEGORIES:Introduction
ATTACH;FMTTYPE=image/webp:https://vbe.academy/wp-content/uploads/2025/04/feature-online.webp
ORGANIZER;CN="VBE Academy":MAILTO:info@vbe.academy
END:VEVENT
BEGIN:VEVENT
DTSTART;TZID=Europe/London:20261015T083000
DTEND;TZID=Europe/London:20261015T163000
DTSTAMP:20260421T095823
CREATED:20250915T173319Z
LAST-MODIFIED:20260121T124424Z
UID:3340-1792053000-1792081800@vbe.academy
SUMMARY:VBE Introduction Training (1 day\, UK Timezone)
DESCRIPTION:Join us for a one-day introduction to Artificial Intelligence\, AI Ethics\, and Value-based Engineering (VBE). This training builds essential AI literacy and shows how VBE provides a structured\, standards-aligned method to align technology with human values – supporting compliance with the EU AI Act and other upcoming regulations. \nYour course package includes a complimentary copy of the Value-based Engineering book. \n👉 Visit the training overview for more details. \nBook your seat today or contact us for more information. We are happy to provide individual quotes and alternative payment options.
URL:https://vbe.academy/event/vbe-introduction-training-2026-10-15/
LOCATION:Online
CATEGORIES:Introduction
ATTACH;FMTTYPE=image/webp:https://vbe.academy/wp-content/uploads/2025/04/feature-online.webp
ORGANIZER;CN="VBE Academy":MAILTO:info@vbe.academy
END:VEVENT
BEGIN:VEVENT
DTSTART;TZID=Europe/Vienna:20261112T090000
DTEND;TZID=Europe/Vienna:20261112T170000
DTSTAMP:20260421T095823
CREATED:20260121T134330Z
LAST-MODIFIED:20260121T134602Z
UID:6676-1794474000-1794502800@vbe.academy
SUMMARY:VBE Introduction Training (1 day\, German language)
DESCRIPTION:Join us for a one-day introduction to Artificial Intelligence\, AI Ethics\, and Value-based Engineering (VBE). This training builds essential AI literacy and shows how VBE provides a structured\, standards-aligned method to align technology with human values – supporting compliance with the EU AI Act and other upcoming regulations. \nYour course package includes a complimentary copy of the Value-based Engineering book. \n👉 Visit the training overview for more details. \nBook your seat today or contact us for more information. We are happy to provide individual quotes and alternative payment options.
URL:https://vbe.academy/event/vbe-introduction-training-2026-11-12/
LOCATION:Online
CATEGORIES:Introduction
ATTACH;FMTTYPE=image/webp:https://vbe.academy/wp-content/uploads/2025/04/feature-online.webp
ORGANIZER;CN="VBE Academy":MAILTO:info@vbe.academy
END:VEVENT
BEGIN:VEVENT
DTSTART;VALUE=DATE:20261117
DTEND;VALUE=DATE:20261120
DTSTAMP:20260421T095823
CREATED:20250915T165209Z
LAST-MODIFIED:20260121T123217Z
UID:3315-1794873600-1795132799@vbe.academy
SUMMARY:VBE Ambassador Training (3.5 days\, CET\, English language)
DESCRIPTION:Be the reason technology moves in the right direction. Become a certified ambassador for Value-based Engineering (VBE) and help shape technology with ethical purpose. \nThis training introduces the fundamentals of the ISO/IEC/IEEE 24748-7000 standard and shows how to systematically integrate values into technology development. Grounded in international standards and built for real-world application\, VBE equips you to bridge the gap between ethics\, engineering\, and impact. \n👉 Learn more about the training here \nThe fee for the Austrian Standards VBE Ambassador Certification (Initial Certification\, one attempt) is included in the course price. \nBook your seat today or contact us for more information. We are happy to support you with individual quotes and alternative payment options.
URL:https://vbe.academy/event/vbe-ambassador-training-2026-11-17/
LOCATION:Online
CATEGORIES:VBE Ambassador
ATTACH;FMTTYPE=image/webp:https://vbe.academy/wp-content/uploads/2025/04/feature-online.webp
ORGANIZER;CN="VBE Academy":MAILTO:info@vbe.academy
END:VEVENT
BEGIN:VEVENT
DTSTART;VALUE=DATE:20261201
DTEND;VALUE=DATE:20261204
DTSTAMP:20260421T095823
CREATED:20250915T165213Z
LAST-MODIFIED:20260121T123222Z
UID:3317-1796083200-1796342399@vbe.academy
SUMMARY:VBE Ambassador Training (3.5 days\, CET\, German language)
DESCRIPTION:Be the reason technology moves in the right direction. Become a certified ambassador for Value-based Engineering (VBE) and help shape technology with ethical purpose. \nThis training introduces the fundamentals of the ISO/IEC/IEEE 24748-7000 standard and shows how to systematically integrate values into technology development. Grounded in international standards and built for real-world application\, VBE equips you to bridge the gap between ethics\, engineering\, and impact. \n👉 Learn more about the training here \nThe fee for the Austrian Standards VBE Ambassador Certification (Initial Certification\, one attempt) is included in the course price. \nBook your seat today or contact us for more information. We are happy to support you with individual quotes and alternative payment options.
URL:https://vbe.academy/event/vbe-ambassador-training-2026-12-01/
LOCATION:Online
CATEGORIES:VBE Ambassador
ATTACH;FMTTYPE=image/webp:https://vbe.academy/wp-content/uploads/2025/04/feature-online.webp
ORGANIZER;CN="VBE Academy":MAILTO:info@vbe.academy
END:VEVENT
BEGIN:VEVENT
DTSTART;VALUE=DATE:20261201
DTEND;VALUE=DATE:20261216
DTSTAMP:20260421T095823
CREATED:20250915T210651Z
LAST-MODIFIED:20250916T161620Z
UID:3384-1796083200-1797379199@vbe.academy
SUMMARY:Digital Ethics Module 2: Value Principles and Fundamental Rights (Dec. 2026)
DESCRIPTION:Advance your expertise with a deep dive into five core values shaping AI and IT design: dignity\, freedom\, privacy\, transparency\, and fairness. This three-month blended learning course helps you address bias\, data protection\, and ethical challenges in complex systems. \n👉 Visit the full course overview \nBook your seat today or contact us for more information. We are happy to support you with individual quotes and alternative payment options. (Prices are net prices\, VAT may apply.)
URL:https://vbe.academy/event/value-principles-and-fundamental-rights-2026-12-01/
LOCATION:Online
CATEGORIES:Digital Ethics 2
ATTACH;FMTTYPE=image/webp:https://vbe.academy/wp-content/uploads/2025/04/feature-online.webp
ORGANIZER;CN="VBE Academy":MAILTO:info@vbe.academy
END:VEVENT
BEGIN:VEVENT
DTSTART;TZID=America/New_York:20261215T083000
DTEND;TZID=America/New_York:20261215T173000
DTSTAMP:20260421T095823
CREATED:20250915T173326Z
LAST-MODIFIED:20260121T122946Z
UID:3352-1797323400-1797355800@vbe.academy
SUMMARY:VBE Introduction Training (1 day\, US Timezone)
DESCRIPTION:Join us for a one-day introduction to Artificial Intelligence\, AI Ethics\, and Value-based Engineering (VBE). This training builds essential AI literacy and shows how VBE provides a structured\, standards-aligned method to align technology with human values – supporting compliance with the EU AI Act and other upcoming regulations. \nYour course package includes a complimentary copy of the Value-based Engineering book. \n👉 Visit the training overview for more details. \nBook your seat today or contact us for more information. We are happy to provide individual quotes and alternative payment options.
URL:https://vbe.academy/event/vbe-introduction-training-2026-12-15/
LOCATION:Online
CATEGORIES:Introduction
ATTACH;FMTTYPE=image/webp:https://vbe.academy/wp-content/uploads/2025/04/feature-online.webp
ORGANIZER;CN="VBE Academy":MAILTO:info@vbe.academy
END:VEVENT
BEGIN:VEVENT
DTSTART;TZID=Europe/Vienna:20270120T090000
DTEND;TZID=Europe/Vienna:20270120T170000
DTSTAMP:20260421T095823
CREATED:20260121T142039Z
LAST-MODIFIED:20260121T142115Z
UID:6686-1800435600-1800464400@vbe.academy
SUMMARY:VBE Introduction Training (1 day\, German language)
DESCRIPTION:Join us for a one-day introduction to Artificial Intelligence\, AI Ethics\, and Value-based Engineering (VBE). This training builds essential AI literacy and shows how VBE provides a structured\, standards-aligned method to align technology with human values – supporting compliance with the EU AI Act and other upcoming regulations. \nYour course package includes a complimentary copy of the Value-based Engineering book. \n👉 Visit the training overview for more details. \nBook your seat today or contact us for more information. We are happy to provide individual quotes and alternative payment options.
URL:https://vbe.academy/event/vbe-introduction-training-2027-01-20/
LOCATION:Online
CATEGORIES:Introduction
ATTACH;FMTTYPE=image/webp:https://vbe.academy/wp-content/uploads/2025/04/feature-online.webp
ORGANIZER;CN="VBE Academy":MAILTO:info@vbe.academy
END:VEVENT
END:VCALENDAR